BEGIN:VCALENDAR
VERSION:2.0
PRODID:-//Lebenshilfe Aschaffenburg e.V. - ECPv6.15.20//NONSGML v1.0//EN
CALSCALE:GREGORIAN
METHOD:PUBLISH
X-WR-CALNAME:Lebenshilfe Aschaffenburg e.V.
X-ORIGINAL-URL:https://www.lebenshilfe-aschaffenburg.de
X-WR-CALDESC:Veranstaltungen für Lebenshilfe Aschaffenburg e.V.
REFRESH-INTERVAL;VALUE=DURATION:PT1H
X-Robots-Tag:noindex
X-PUBLISHED-TTL:PT1H
BEGIN:VTIMEZONE
TZID:Europe/Berlin
BEGIN:DAYLIGHT
TZOFFSETFROM:+0100
TZOFFSETTO:+0200
TZNAME:CEST
DTSTART:20240331T010000
END:DAYLIGHT
BEGIN:STANDARD
TZOFFSETFROM:+0200
TZOFFSETTO:+0100
TZNAME:CET
DTSTART:20241027T010000
END:STANDARD
BEGIN:DAYLIGHT
TZOFFSETFROM:+0100
TZOFFSETTO:+0200
TZNAME:CEST
DTSTART:20250330T010000
END:DAYLIGHT
BEGIN:STANDARD
TZOFFSETFROM:+0200
TZOFFSETTO:+0100
TZNAME:CET
DTSTART:20251026T010000
END:STANDARD
BEGIN:DAYLIGHT
TZOFFSETFROM:+0100
TZOFFSETTO:+0200
TZNAME:CEST
DTSTART:20260329T010000
END:DAYLIGHT
BEGIN:STANDARD
TZOFFSETFROM:+0200
TZOFFSETTO:+0100
TZNAME:CET
DTSTART:20261025T010000
END:STANDARD
END:VTIMEZONE
BEGIN:VEVENT
DTSTART;TZID=Europe/Berlin:20250706T110000
DTEND;TZID=Europe/Berlin:20250706T170000
DTSTAMP:20260419T195936
CREATED:20250408T074020Z
LAST-MODIFIED:20250408T074020Z
UID:10000228-1751799600-1751821200@www.lebenshilfe-aschaffenburg.de
SUMMARY:30 Jahre Integrative Kindertagesstätte Himmelszelt
DESCRIPTION:Unsere Integrative Kindertagesstätte Himmelszelt in Aschaffenburg wird dieses Jahr 30! \nWir freuen uns auf ein kunterbuntes Jubiläumsfest am Sonntag\, den 6. Juli 2025 von 11 bis 17 Uhr. \n \nTeilen macht Freu(n)deteilen Pocket teilen 
URL:https://www.lebenshilfe-aschaffenburg.de/termine/30-jahre-integrative-kindertagesstaette-himmelszelt/
LOCATION:Integrative Kindertagesstätte Himmelszelt\, Hockstraße 25\, Aschaffenburg\, 63743\, Deutschland
ATTACH;FMTTYPE=image/jpeg:https://www.lebenshilfe-aschaffenburg.de/wp-content/uploads/2025/04/jubi_iktab_titel.jpg
END:VEVENT
BEGIN:VEVENT
DTSTART;TZID=Europe/Berlin:20250711T110000
DTEND;TZID=Europe/Berlin:20250711T150000
DTSTAMP:20260419T195936
CREATED:20250506T074105Z
LAST-MODIFIED:20250506T074105Z
UID:10000230-1752231600-1752246000@www.lebenshilfe-aschaffenburg.de
SUMMARY:25 Jahre Tagesförderstätte
DESCRIPTION:Unsere Tagesförderstätte in Stockstadt wird dieses Jahr 25 Jahre alt! \nWir feiern dieses besondere Jubiläum mit einem Tag der offenen Tür am Freitag\, den 11. Juli 2025 von 11.00 bis 15.00 Uhr. \n \nTeilen macht Freu(n)deteilen Pocket teilen 
URL:https://www.lebenshilfe-aschaffenburg.de/termine/25-jahre-tagesfoerderstaette/
LOCATION:Tagesförderstätte\, Wallstadter Str. 11\, 63811 Stockstadt\, Deutschland
ATTACH;FMTTYPE=image/png:https://www.lebenshilfe-aschaffenburg.de/wp-content/uploads/2025/05/jubitafoes_titel.png
ORGANIZER;CN="Tagesf%C3%B6rderst%C3%A4tte":MAILTO:tagesfoerderstaette@lebenshilfe-aschaffenburg.de
END:VEVENT
END:VCALENDAR