BEGIN:VCALENDAR
VERSION:2.0
PRODID:-//Lebenshilfe Aschaffenburg e.V. - ECPv6.15.20//NONSGML v1.0//EN
CALSCALE:GREGORIAN
METHOD:PUBLISH
X-WR-CALNAME:Lebenshilfe Aschaffenburg e.V.
X-ORIGINAL-URL:https://www.lebenshilfe-aschaffenburg.de
X-WR-CALDESC:Veranstaltungen für Lebenshilfe Aschaffenburg e.V.
REFRESH-INTERVAL;VALUE=DURATION:PT1H
X-Robots-Tag:noindex
X-PUBLISHED-TTL:PT1H
BEGIN:VTIMEZONE
TZID:Europe/Berlin
BEGIN:DAYLIGHT
TZOFFSETFROM:+0100
TZOFFSETTO:+0200
TZNAME:CEST
DTSTART:20230326T010000
END:DAYLIGHT
BEGIN:STANDARD
TZOFFSETFROM:+0200
TZOFFSETTO:+0100
TZNAME:CET
DTSTART:20231029T010000
END:STANDARD
BEGIN:DAYLIGHT
TZOFFSETFROM:+0100
TZOFFSETTO:+0200
TZNAME:CEST
DTSTART:20240331T010000
END:DAYLIGHT
BEGIN:STANDARD
TZOFFSETFROM:+0200
TZOFFSETTO:+0100
TZNAME:CET
DTSTART:20241027T010000
END:STANDARD
BEGIN:DAYLIGHT
TZOFFSETFROM:+0100
TZOFFSETTO:+0200
TZNAME:CEST
DTSTART:20250330T010000
END:DAYLIGHT
BEGIN:STANDARD
TZOFFSETFROM:+0200
TZOFFSETTO:+0100
TZNAME:CET
DTSTART:20251026T010000
END:STANDARD
END:VTIMEZONE
BEGIN:VEVENT
DTSTART;TZID=Europe/Berlin:20240630T120000
DTEND;TZID=Europe/Berlin:20240630T160000
DTSTAMP:20260420T171138
CREATED:20240618T073014Z
LAST-MODIFIED:20240618T073014Z
UID:10000215-1719748800-1719763200@www.lebenshilfe-aschaffenburg.de
SUMMARY:Sommerfest der Integrativen Kindertagesstätte "Himmelszelt"
DESCRIPTION:Endlich wieder Sommerfest mit Spiel und Spaß in der Integrativen Kindertagesstätte “Himmelszelt” in Aschaffenburg am Sonntag\, den 30. Juni von 12 bis 16 Uhr. \nFreut euch auf kleine Aufführungen der Kinder\, Schminken\, Stirnbänderbasteln\, einen Bewegungsparcours und eine Schatzsuche im Sandkasten. Auch für Essen und Trinken ist gesorgt. \nWir freuen uns auf einen abwechslungsreichen Nachmittag! \n \nTeilen macht Freu(n)deteilen Pocket teilen 
URL:https://www.lebenshilfe-aschaffenburg.de/termine/sommerfest-der-integrativen-kindertagesstaette-himmelszelt-2/
LOCATION:Integrative Kindertagesstätte Himmelszelt\, Hockstraße 25\, Aschaffenburg\, 63743\, Deutschland
CATEGORIES:Integrative Kindertagesstätte Himmelszelt
ATTACH;FMTTYPE=image/jpeg:https://www.lebenshilfe-aschaffenburg.de/wp-content/uploads/2024/06/sommerfestabtitel.jpg
END:VEVENT
END:VCALENDAR