BEGIN:VCALENDAR
VERSION:2.0
PRODID:-//Lebenshilfe Aschaffenburg e.V. - ECPv6.15.20//NONSGML v1.0//EN
CALSCALE:GREGORIAN
METHOD:PUBLISH
X-WR-CALNAME:Lebenshilfe Aschaffenburg e.V.
X-ORIGINAL-URL:https://www.lebenshilfe-aschaffenburg.de
X-WR-CALDESC:Veranstaltungen für Lebenshilfe Aschaffenburg e.V.
REFRESH-INTERVAL;VALUE=DURATION:PT1H
X-Robots-Tag:noindex
X-PUBLISHED-TTL:PT1H
BEGIN:VTIMEZONE
TZID:Europe/Berlin
BEGIN:DAYLIGHT
TZOFFSETFROM:+0100
TZOFFSETTO:+0200
TZNAME:CEST
DTSTART:20230326T010000
END:DAYLIGHT
BEGIN:STANDARD
TZOFFSETFROM:+0200
TZOFFSETTO:+0100
TZNAME:CET
DTSTART:20231029T010000
END:STANDARD
BEGIN:DAYLIGHT
TZOFFSETFROM:+0100
TZOFFSETTO:+0200
TZNAME:CEST
DTSTART:20240331T010000
END:DAYLIGHT
BEGIN:STANDARD
TZOFFSETFROM:+0200
TZOFFSETTO:+0100
TZNAME:CET
DTSTART:20241027T010000
END:STANDARD
BEGIN:DAYLIGHT
TZOFFSETFROM:+0100
TZOFFSETTO:+0200
TZNAME:CEST
DTSTART:20250330T010000
END:DAYLIGHT
BEGIN:STANDARD
TZOFFSETFROM:+0200
TZOFFSETTO:+0100
TZNAME:CET
DTSTART:20251026T010000
END:STANDARD
END:VTIMEZONE
BEGIN:VEVENT
DTSTART;TZID=Europe/Berlin:20240204T150000
DTEND;TZID=Europe/Berlin:20240204T180000
DTSTAMP:20260421T001819
CREATED:20231221T085553Z
LAST-MODIFIED:20231221T085553Z
UID:10000207-1707058800-1707069600@www.lebenshilfe-aschaffenburg.de
SUMMARY:Faschings-Disco
DESCRIPTION:Wir freuen uns schon auf die beliebte Faschings-Disco der Lebenshilfe Aschaffenburg e.V. im Colos-Saal mit DJ Hubert K.! \nAm Sonntag\, den 4. Februar ist es wieder soweit: Von 15 bis 18 Uhr wird gefeiert\, getanzt und gelacht. Außerdem gibt es Auftritte unserer Including Stepps und des Tanzstudios Bozaci. Wir freuen uns über bunte Kostüme und viel gute Laune! \nEingeladen sind alle Erwachsenen und Jugendlichen ab 14 Jahre. \nEintritt: 1 Euro \n \nTeilen macht Freu(n)deteilen Pocket teilen 
URL:https://www.lebenshilfe-aschaffenburg.de/termine/faschings-disco-2/
LOCATION:Colos-Saal Aschaffenburg\, Roßmarkt 19\, 63739 Aschaffenburg
CATEGORIES:Familienentlastender Dienst,Freizeit - Begegnung - Bildung,Heilpädagogische Tagesstätte,Integrative Kindertagesstätte Himmelszelt,Integrative Kindertagesstätte in Mömbris,Integrative Kindertagesstätte Kunterbunt,Offene Hilfen,Tagesförderstätte,Treffpunkt Mensch
ATTACH;FMTTYPE=image/jpeg:https://www.lebenshilfe-aschaffenburg.de/wp-content/uploads/2023/12/faschingsdiscoklein.jpg
ORGANIZER;CN="Lebenshilfe Aschaffenburg e.V.":MAILTO:geschaeftsstelle@lebenshilfe-aschaffenburg.de
END:VEVENT
BEGIN:VEVENT
DTSTART;TZID=Europe/Berlin:20240220T190000
DTEND;TZID=Europe/Berlin:20240220T210000
DTSTAMP:20260421T001819
CREATED:20240115T082457Z
LAST-MODIFIED:20240115T082457Z
UID:10000209-1708455600-1708462800@www.lebenshilfe-aschaffenburg.de
SUMMARY:Elternabend "Medien in der Familie"
DESCRIPTION:„Medien in der Familie:\nInfoveranstaltung für Eltern von 3- bis 6-Jährigen\nmit Ergänzungen zu unter 3-Jährigen“ \nAm 20.02.2024 um 19 Uhr in der Integrativen Kindertagesstätte Hundertmorgenwald in Mömbris \nIm familiären Umfeld lernen Kinder schon frühzeitig digitale Medien kennen und nutzen.\nWir laden Sie ein\, gemeinsam mit uns in das Thema Mediennutzung im Krippen- und Kindergartenalter einzutauchen. Im Gespräch gehen wir u. a. diesen Fragen nach: \n\nWelche Vorbilder suchen und finden Kinder in den Medien?\nWelche Inhalte machen in diesem Alter Angst und können überfordern?\nWo finden Eltern altersgerechte Apps\, Sendungen und Internetseiten?\n\nSie erhalten praktische Tipps\, wie Sie Ihr Kind im Umgang mit Medien begleiten und fördern können. Nehmen Sie die Gelegenheit wahr\, sich zu informieren! \nDie Teilnahme ist kostenlos.\nAnmeldung bis 5. Februar 2024 unter anja.skalitz@lebenshilfe-aschaffenburg.de \nDie Stiftung Medienpädagogik Bayern stellt für die Informationsveranstaltungen kostenfrei erfahrene Referent:innen des Medienpädagogischen Referentennetzwerks Bayern zur Verfügung: www.stiftung-medienpaedagogik-bayern.de \nDas Projekt wird von der Bayerischen Staatskanzlei gefördert. \nTeilen macht Freu(n)deteilen Pocket teilen 
URL:https://www.lebenshilfe-aschaffenburg.de/termine/elternabend-medien-in-der-familie/
LOCATION:Integrative Kindertagesstätte Hundertmorgenwald\, Zur Heiligenwiese 2\, Mömbris\, 63776
ATTACH;FMTTYPE=image/jpeg:https://www.lebenshilfe-aschaffenburg.de/wp-content/uploads/2024/01/einladung_medienpaedagogik_kl.jpg
ORGANIZER;CN="Integrative Kindertagesst%C3%A4tte Hundertmorgenwald":MAILTO:ikt-hundertmorgenwald@lebenshilfe-aschaffenburg.de
END:VEVENT
BEGIN:VEVENT
DTSTART;TZID=Europe/Berlin:20240227T171500
DTEND;TZID=Europe/Berlin:20240227T180000
DTSTAMP:20260421T001819
CREATED:20240214T081549Z
LAST-MODIFIED:20240214T081549Z
UID:10000210-1709054100-1709056800@www.lebenshilfe-aschaffenburg.de
SUMMARY:Inklusiver Chor in Alzenau
DESCRIPTION:Singen macht Spaß und glücklich dazu! \nUnser inklusiver Kinder- und Jugendchor in Alzenau steht wieder in den Startlöchern. Ab Dienstag\, den 27. Februar soll in den Räumen der Integrativen Kindertagesstätte „Kunterbunt“ wieder gemeinsam gesungen und musiziert werden. \nLust mitzumachen? Dann ruf uns an\, wir freuen uns auf dich! \n \nTeilen macht Freu(n)deteilen Pocket teilen 
URL:https://www.lebenshilfe-aschaffenburg.de/termine/inklusiver-chor-in-alzenau/
LOCATION:Integrative Kindertagesstätte Kunterbunt\, Schlehenweg 9\, Alzenau\, 63755
CATEGORIES:Integrative Kindertagesstätte Kunterbunt,Offene Hilfen
ATTACH;FMTTYPE=image/jpeg:https://www.lebenshilfe-aschaffenburg.de/wp-content/uploads/2024/02/inklchoralzklein-scaled.jpg
END:VEVENT
END:VCALENDAR