BEGIN:VCALENDAR
VERSION:2.0
PRODID:-//Lebenshilfe Aschaffenburg e.V. - ECPv6.15.20//NONSGML v1.0//EN
CALSCALE:GREGORIAN
METHOD:PUBLISH
X-ORIGINAL-URL:https://www.lebenshilfe-aschaffenburg.de
X-WR-CALDESC:Veranstaltungen für Lebenshilfe Aschaffenburg e.V.
REFRESH-INTERVAL;VALUE=DURATION:PT1H
X-Robots-Tag:noindex
X-PUBLISHED-TTL:PT1H
BEGIN:VTIMEZONE
TZID:Europe/Berlin
BEGIN:DAYLIGHT
TZOFFSETFROM:+0100
TZOFFSETTO:+0200
TZNAME:CEST
DTSTART:20240331T010000
END:DAYLIGHT
BEGIN:STANDARD
TZOFFSETFROM:+0200
TZOFFSETTO:+0100
TZNAME:CET
DTSTART:20241027T010000
END:STANDARD
BEGIN:DAYLIGHT
TZOFFSETFROM:+0100
TZOFFSETTO:+0200
TZNAME:CEST
DTSTART:20250330T010000
END:DAYLIGHT
BEGIN:STANDARD
TZOFFSETFROM:+0200
TZOFFSETTO:+0100
TZNAME:CET
DTSTART:20251026T010000
END:STANDARD
BEGIN:DAYLIGHT
TZOFFSETFROM:+0100
TZOFFSETTO:+0200
TZNAME:CEST
DTSTART:20260329T010000
END:DAYLIGHT
BEGIN:STANDARD
TZOFFSETFROM:+0200
TZOFFSETTO:+0100
TZNAME:CET
DTSTART:20261025T010000
END:STANDARD
END:VTIMEZONE
BEGIN:VEVENT
DTSTART;TZID=Europe/Berlin:20251130T120000
DTEND;TZID=Europe/Berlin:20251130T170000
DTSTAMP:20260419T152818
CREATED:20250729T081728Z
LAST-MODIFIED:20251103T094034Z
UID:10000234-1764504000-1764522000@www.lebenshilfe-aschaffenburg.de
SUMMARY:Sozialer Weihnachtsmarkt
DESCRIPTION:Lust auf einen Weihnachtsmarkt der besonderen Art in stimmungsvoller Atmosphäre? Dann kommen Sie am 1. Advent in den wunderschönen Klostergarten des Kapuzinerklosters in Aschaffenburg. \n\n\n\nDie Lebenshilfe Aschaffenburg ist dieses Jahr zum vierten Mal beim Sozialen Weihnachtsmarkt dabei. An unserem Stand finden Sie Schönes\, Nachhaltiges\, Handgemachtes aus Stoff\, Holz und Papier sowie verschiedene Leckereien zum Verschenken. Der Erlös unseres Standes kommt zu 100% der Lebenshilfe Aschaffenburg zugute. \n\n\n\nAuch für das leibliche Wohl ist bestens gesorgt. \n\n\n\nWir freuen uns auf Ihren Besuch! \n\n\n\nWenn Sie dem Sozialen Weihnachtsmarkt auf Instagram folgen\, können Sie schon vorab einen kleinen Eindruck von dem bekommen\, was Sie alles an den verschiedenen Ständen erwartet: instagram.com/sozialerweihnachtsmarkt2025 \n\n\n\n\n\n\n\n\n\n\n\n\nTeilen macht Freu(n)deteilen Pocket teilen 
URL:https://www.lebenshilfe-aschaffenburg.de/termine/sozialer-weihnachtsmarkt/
CATEGORIES:Offene Hilfen
ATTACH;FMTTYPE=image/png:https://www.lebenshilfe-aschaffenburg.de/wp-content/uploads/2025/10/plakatweihnachtsmarkt3.png
END:VEVENT
END:VCALENDAR