BEGIN:VCALENDAR
VERSION:2.0
PRODID:-//Lebenshilfe Aschaffenburg e.V. - ECPv6.15.20//NONSGML v1.0//EN
CALSCALE:GREGORIAN
METHOD:PUBLISH
X-ORIGINAL-URL:https://www.lebenshilfe-aschaffenburg.de
X-WR-CALDESC:Veranstaltungen für Lebenshilfe Aschaffenburg e.V.
REFRESH-INTERVAL;VALUE=DURATION:PT1H
X-Robots-Tag:noindex
X-PUBLISHED-TTL:PT1H
BEGIN:VTIMEZONE
TZID:Europe/Berlin
BEGIN:DAYLIGHT
TZOFFSETFROM:+0100
TZOFFSETTO:+0200
TZNAME:CEST
DTSTART:20240331T010000
END:DAYLIGHT
BEGIN:STANDARD
TZOFFSETFROM:+0200
TZOFFSETTO:+0100
TZNAME:CET
DTSTART:20241027T010000
END:STANDARD
BEGIN:DAYLIGHT
TZOFFSETFROM:+0100
TZOFFSETTO:+0200
TZNAME:CEST
DTSTART:20250330T010000
END:DAYLIGHT
BEGIN:STANDARD
TZOFFSETFROM:+0200
TZOFFSETTO:+0100
TZNAME:CET
DTSTART:20251026T010000
END:STANDARD
BEGIN:DAYLIGHT
TZOFFSETFROM:+0100
TZOFFSETTO:+0200
TZNAME:CEST
DTSTART:20260329T010000
END:DAYLIGHT
BEGIN:STANDARD
TZOFFSETFROM:+0200
TZOFFSETTO:+0100
TZNAME:CET
DTSTART:20261025T010000
END:STANDARD
END:VTIMEZONE
BEGIN:VEVENT
DTSTART;TZID=Europe/Berlin:20250921T110000
DTEND;TZID=Europe/Berlin:20250921T170000
DTSTAMP:20260419T182345
CREATED:20250602T101533Z
LAST-MODIFIED:20250729T080659Z
UID:10000231-1758452400-1758474000@www.lebenshilfe-aschaffenburg.de
SUMMARY:Oktoberfest in der Integrativen Kindertagesstätte Hundertmorgenwald
DESCRIPTION:Am Sonntag\, den 21. September 2025\, findet das Oktoberfest in unserer Integrativen Kindertagesstätte Hundertmorgenwald in Mömbris statt. \n\n\n\nWir geben Einblicke in unsere pädagogische Arbeit\, bieten viele Spiel- und Bastelangebote für alle Kinder und natürlich eine große Hüpfburg! \n\n\n\nUnser Elternbeirat sorgt für das leibliche Wohl mit allerlei bayerischen Schmankerln. \n\n\n\nWir freuen uns auf Ihren Besuch! \n\n\n\n\n\n\n\n\n\n\n\n\n\n\n\n\n\n\n\n\nTeilen macht Freu(n)deteilen Pocket teilen 
URL:https://www.lebenshilfe-aschaffenburg.de/termine/oktoberfest-ikt-m-2025/
LOCATION:Integrative Kindertagesstätte Hundertmorgenwald\, Zur Heiligenwiese 2\, Mömbris\, 63776
CATEGORIES:Integrative Kindertagesstätte in Mömbris
ATTACH;FMTTYPE=image/jpeg:https://www.lebenshilfe-aschaffenburg.de/wp-content/uploads/2023/08/2023-09-24-oktoberfest-2.jpg
ORGANIZER;CN="Integrative Kindertagesst%C3%A4tte Hundertmorgenwald":MAILTO:ikt-hundertmorgenwald@lebenshilfe-aschaffenburg.de
END:VEVENT
END:VCALENDAR