BEGIN:VCALENDAR
VERSION:2.0
PRODID:-//Lebenshilfe Aschaffenburg e.V. - ECPv6.15.20//NONSGML v1.0//EN
CALSCALE:GREGORIAN
METHOD:PUBLISH
X-ORIGINAL-URL:https://www.lebenshilfe-aschaffenburg.de
X-WR-CALDESC:Veranstaltungen für Lebenshilfe Aschaffenburg e.V.
REFRESH-INTERVAL;VALUE=DURATION:PT1H
X-Robots-Tag:noindex
X-PUBLISHED-TTL:PT1H
BEGIN:VTIMEZONE
TZID:Europe/Berlin
BEGIN:DAYLIGHT
TZOFFSETFROM:+0100
TZOFFSETTO:+0200
TZNAME:CEST
DTSTART:20240331T010000
END:DAYLIGHT
BEGIN:STANDARD
TZOFFSETFROM:+0200
TZOFFSETTO:+0100
TZNAME:CET
DTSTART:20241027T010000
END:STANDARD
BEGIN:DAYLIGHT
TZOFFSETFROM:+0100
TZOFFSETTO:+0200
TZNAME:CEST
DTSTART:20250330T010000
END:DAYLIGHT
BEGIN:STANDARD
TZOFFSETFROM:+0200
TZOFFSETTO:+0100
TZNAME:CET
DTSTART:20251026T010000
END:STANDARD
BEGIN:DAYLIGHT
TZOFFSETFROM:+0100
TZOFFSETTO:+0200
TZNAME:CEST
DTSTART:20260329T010000
END:DAYLIGHT
BEGIN:STANDARD
TZOFFSETFROM:+0200
TZOFFSETTO:+0100
TZNAME:CET
DTSTART:20261025T010000
END:STANDARD
END:VTIMEZONE
BEGIN:VEVENT
DTSTART;TZID=Europe/Berlin:20250913T100000
DTEND;TZID=Europe/Berlin:20250913T130000
DTSTAMP:20260419T182439
CREATED:20250121T123119Z
LAST-MODIFIED:20250904T070015Z
UID:10000225-1757757600-1757768400@www.lebenshilfe-aschaffenburg.de
SUMMARY:Flohmarkt und Kinderkleiderbasar
DESCRIPTION:Am 13. September 2025 findet auf dem Gelände der Integrativen Kindertagesstätte Kunterbunt in Alzenau ein Flohmarkt und Kinderkleiderbasar statt. \n\n\n\nVerkauft werden gut erhaltene Baby- und Kinderkleidung\, Spielsachen\, Bücher… und selbstverständlich Selbstgemachtes aus der IKT Kunterbunt. \n\n\n\nDer Flohmarkt findet wieder im Rahmen der “Fairen Woche” in Alzenau statt. Das Thema der Fairen Woche 2025 lautet “Fair handeln – Vielfalt erleben”. Unser Flohmarkt unter dem Titel “Fair-kleidet” wird unser Beitrag sein zu den Themen Nachhaltigkeit und Vielfalt. In den letzten Jahren wurde diese Veranstaltung ein Treffpunkt für „Groß“ und „Klein“ zum Stöbern und Verkaufen\, aber auch\, um sich über die Arbeit in unserer „Eine-Welt-Kita” zu informieren oder um mit den Kindern die Spielangebote zu nutzen und sich bei Kaffee und Kuchen zu unterhalten. \n\n\n\nDie Übersicht der weiteren Veranstaltungen im Rahmen der Fairen Woche findet man rechtzeitig in der “Fair”-Anstaltungsübersicht auf der Internetseite der Stadt Alzenau. \n\n\n\nAlle weiteren Informationen zum Flohmarkt – auch zur Standgebühr und der Anmeldung – gibt’s hier: \n\n\n\n\n\n\n\n  \n\n\n\n\n\n\n\n\nTeilen macht Freu(n)deteilen Pocket teilen 
URL:https://www.lebenshilfe-aschaffenburg.de/termine/flohmarkt-iktalz-25-2/
LOCATION:Integrative Kindertagesstätte Kunterbunt\, Schlehenweg 9\, Alzenau\, 63755
CATEGORIES:Integrative Kindertagesstätte Kunterbunt
ATTACH;FMTTYPE=image/jpeg:https://www.lebenshilfe-aschaffenburg.de/wp-content/uploads/2023/07/flohmarkt25_iktalz2.jpg
ORGANIZER;CN="Integrative Kindertagesst%C3%A4tte Kunterbunt":MAILTO:ikt-kunterbunt@lebenshilfe-aschaffenburg.de
END:VEVENT
END:VCALENDAR