BEGIN:VCALENDAR
VERSION:2.0
PRODID:-//Lebenshilfe Aschaffenburg e.V. - ECPv6.15.20//NONSGML v1.0//EN
CALSCALE:GREGORIAN
METHOD:PUBLISH
X-WR-CALNAME:Lebenshilfe Aschaffenburg e.V.
X-ORIGINAL-URL:https://www.lebenshilfe-aschaffenburg.de
X-WR-CALDESC:Veranstaltungen für Lebenshilfe Aschaffenburg e.V.
REFRESH-INTERVAL;VALUE=DURATION:PT1H
X-Robots-Tag:noindex
X-PUBLISHED-TTL:PT1H
BEGIN:VTIMEZONE
TZID:Europe/Berlin
BEGIN:DAYLIGHT
TZOFFSETFROM:+0100
TZOFFSETTO:+0200
TZNAME:CEST
DTSTART:20240331T010000
END:DAYLIGHT
BEGIN:STANDARD
TZOFFSETFROM:+0200
TZOFFSETTO:+0100
TZNAME:CET
DTSTART:20241027T010000
END:STANDARD
BEGIN:DAYLIGHT
TZOFFSETFROM:+0100
TZOFFSETTO:+0200
TZNAME:CEST
DTSTART:20250330T010000
END:DAYLIGHT
BEGIN:STANDARD
TZOFFSETFROM:+0200
TZOFFSETTO:+0100
TZNAME:CET
DTSTART:20251026T010000
END:STANDARD
BEGIN:DAYLIGHT
TZOFFSETFROM:+0100
TZOFFSETTO:+0200
TZNAME:CEST
DTSTART:20260329T010000
END:DAYLIGHT
BEGIN:STANDARD
TZOFFSETFROM:+0200
TZOFFSETTO:+0100
TZNAME:CET
DTSTART:20261025T010000
END:STANDARD
END:VTIMEZONE
BEGIN:VEVENT
DTSTART;TZID=Europe/Berlin:20250628T103000
DTEND;TZID=Europe/Berlin:20250628T120000
DTSTAMP:20260419T225708
CREATED:20250624T073355Z
LAST-MODIFIED:20250624T073355Z
UID:10000232-1751106600-1751112000@www.lebenshilfe-aschaffenburg.de
SUMMARY:Inklusionswanderung im Generationenpark Alzenau
DESCRIPTION:Wir laden Sie herzlich zu unserer inklusiven Wanderung am Samstag\, den 28. Juni 2025\, im wunderschönen Generationenpark Alzenau ein. Gemeinsam möchten wir einen Tag voller Bewegung\, Geschichte und Gemeinschaft erleben. \nVeranstaltungsdetails:\n• Treffpunkt: Winzerpavillon im Generationenpark Alzenau\n• Beginn: 10:30 Uhr\n• Ende: ca. 12:00 Uhr (anschließend sind alle herzlich eingeladen\, den Tag im Biergarten ausklingen zu lassen – open end) \nDas erwartet Sie:\n• Eine kurze und eine lange historische Wanderung mit dem „Bezirksamtmann“ Walter Scharwies zu Rathaus und Burg (ca. 2 km) oder Villa Messmer (ca. 4 km)\n• Familienwanderungen mit Silvia Schuck-Röll zum Spielplatz (ca. 3 km)\n• Eine historische Gartenführung des Vereines Kultburg (ca. 2\,5 km) \nDiese Veranstaltung ist eine Kooperation des Spessartbundes\, der Kultburg und der Lebenshilfe Aschaffenburg e.V..\nWir freuen uns auf einen gemeinsamen Tag voller Bewegung und Geschichte! \n \nTeilen macht Freu(n)deteilen Pocket teilen 
URL:https://www.lebenshilfe-aschaffenburg.de/termine/inklusionswanderung-im-generationenpark-alzenau/
LOCATION:Generationenpark Alzenau\, Am Hohen Kreuz 1\, Alzenau\, 63755
ATTACH;FMTTYPE=image/png:https://www.lebenshilfe-aschaffenburg.de/wp-content/uploads/2025/06/2025_02_inklusionswanderung-alz_final_titel.png
END:VEVENT
END:VCALENDAR