BEGIN:VCALENDAR
VERSION:2.0
PRODID:-//Lebenshilfe Aschaffenburg e.V. - ECPv6.15.20//NONSGML v1.0//EN
CALSCALE:GREGORIAN
METHOD:PUBLISH
X-ORIGINAL-URL:https://www.lebenshilfe-aschaffenburg.de
X-WR-CALDESC:Veranstaltungen für Lebenshilfe Aschaffenburg e.V.
REFRESH-INTERVAL;VALUE=DURATION:PT1H
X-Robots-Tag:noindex
X-PUBLISHED-TTL:PT1H
BEGIN:VTIMEZONE
TZID:Europe/Berlin
BEGIN:DAYLIGHT
TZOFFSETFROM:+0100
TZOFFSETTO:+0200
TZNAME:CEST
DTSTART:20240331T010000
END:DAYLIGHT
BEGIN:STANDARD
TZOFFSETFROM:+0200
TZOFFSETTO:+0100
TZNAME:CET
DTSTART:20241027T010000
END:STANDARD
BEGIN:DAYLIGHT
TZOFFSETFROM:+0100
TZOFFSETTO:+0200
TZNAME:CEST
DTSTART:20250330T010000
END:DAYLIGHT
BEGIN:STANDARD
TZOFFSETFROM:+0200
TZOFFSETTO:+0100
TZNAME:CET
DTSTART:20251026T010000
END:STANDARD
BEGIN:DAYLIGHT
TZOFFSETFROM:+0100
TZOFFSETTO:+0200
TZNAME:CEST
DTSTART:20260329T010000
END:DAYLIGHT
BEGIN:STANDARD
TZOFFSETFROM:+0200
TZOFFSETTO:+0100
TZNAME:CET
DTSTART:20261025T010000
END:STANDARD
END:VTIMEZONE
BEGIN:VEVENT
DTSTART;TZID=Europe/Berlin:20250509T143000
DTEND;TZID=Europe/Berlin:20250509T173000
DTSTAMP:20260420T004858
CREATED:20250429T073416Z
LAST-MODIFIED:20250429T073416Z
UID:10000229-1746801000-1746811800@www.lebenshilfe-aschaffenburg.de
SUMMARY:Schnippel-Party - Zeit für Vielfalt
DESCRIPTION:Hast Du Lust auf viele schöne Begegnungen und ein leckeres Buffet aus geretteten Lebensmitteln von Foodsharing? Dann besuche uns bei der Schnippel-Party in unserem Café Freitag im JUZ. Neben gemeinsamen Schnippeln steht Spiele spielen\, Kickern und Quatschen auf dem Programm. Wir informieren auch über die Vermeidung von Lebensmittel-Verschwendung und die Verwertung von Lebensmitteln. \nDie Schnippel-Party ist Teil der Veranstaltungsreihe “Zeit für Vielfalt” in Aschaffenburg. Die Veranstaltungsreihe zeigt die Diversität unserer Stadt. Zahlreiche Veranstaltungen laden dazu ein\, die Vielfalt und die damit einhergehenden verschiedenen Lebensrealitäten Aschaffenburgs kennenzulernen. \n \nTeilen macht Freu(n)deteilen Pocket teilen 
URL:https://www.lebenshilfe-aschaffenburg.de/termine/schnippel-party-zeit-fuer-vielfalt/
LOCATION:Evangelisches Jugendzentrum Aschaffenburg (JuZ)\, Alexandrastraße 5\, Aschaffenburg\, 63739
ATTACH;FMTTYPE=image/jpeg:https://www.lebenshilfe-aschaffenburg.de/wp-content/uploads/2025/04/schnippelparty_titel.jpg
END:VEVENT
END:VCALENDAR