BEGIN:VCALENDAR
VERSION:2.0
PRODID:-//Lebenshilfe Aschaffenburg e.V. - ECPv6.15.20//NONSGML v1.0//EN
CALSCALE:GREGORIAN
METHOD:PUBLISH
X-ORIGINAL-URL:https://www.lebenshilfe-aschaffenburg.de
X-WR-CALDESC:Veranstaltungen für Lebenshilfe Aschaffenburg e.V.
REFRESH-INTERVAL;VALUE=DURATION:PT1H
X-Robots-Tag:noindex
X-PUBLISHED-TTL:PT1H
BEGIN:VTIMEZONE
TZID:Europe/Berlin
BEGIN:DAYLIGHT
TZOFFSETFROM:+0100
TZOFFSETTO:+0200
TZNAME:CEST
DTSTART:20240331T010000
END:DAYLIGHT
BEGIN:STANDARD
TZOFFSETFROM:+0200
TZOFFSETTO:+0100
TZNAME:CET
DTSTART:20241027T010000
END:STANDARD
BEGIN:DAYLIGHT
TZOFFSETFROM:+0100
TZOFFSETTO:+0200
TZNAME:CEST
DTSTART:20250330T010000
END:DAYLIGHT
BEGIN:STANDARD
TZOFFSETFROM:+0200
TZOFFSETTO:+0100
TZNAME:CET
DTSTART:20251026T010000
END:STANDARD
BEGIN:DAYLIGHT
TZOFFSETFROM:+0100
TZOFFSETTO:+0200
TZNAME:CEST
DTSTART:20260329T010000
END:DAYLIGHT
BEGIN:STANDARD
TZOFFSETFROM:+0200
TZOFFSETTO:+0100
TZNAME:CET
DTSTART:20261025T010000
END:STANDARD
END:VTIMEZONE
BEGIN:VEVENT
DTSTART;TZID=Europe/Berlin:20250314T110000
DTEND;TZID=Europe/Berlin:20250315T160000
DTSTAMP:20260420T053828
CREATED:20250306T102844Z
LAST-MODIFIED:20250306T102844Z
UID:10000227-1741950000-1742054400@www.lebenshilfe-aschaffenburg.de
SUMMARY:Selbsthilfetage 2025
DESCRIPTION:Am Freitag und Samstag\, 14. und 15. März\, finden zum 18. Mal die Selbsthilfetage in der City Galerie Aschaffenburg statt. Interessierten bietet sich sowohl am Freitag von 11 Uhr bis 17 Uhr als auch am Samstag von 10 Uhr bis 16 Uhr die Möglichkeit\, mit unterschiedlichen Selbsthilfegruppen aus Stadt und Landkreis Aschaffenburg rund um die Themen psychische und chronische Erkrankungen\, Behinderungen oder Sucht ins Gespräch zu kommen. Zusätzlich informieren Beratungsstellen vor Ort über entsprechende Beratungs- und Hilfsangebote. \nAuch die Lebenshilfe Aschaffenburg e.V. ist vor Ort und stellt sich und ihre vielfältigen Angebote vor. \nEröffnet werden die Selbsthilfetage am Freitag\, 14. März\, um 11 Uhr mit musikalischer Begleitung durch die Veeh-Harfen-Gruppe des Bernhard-Junker-Hauses Aschaffenburg. \nOrganisiert werden die Selbsthilfetage von der Selbsthilfekontaktstelle der Stadt Aschaffenburg in Kooperation mit dem Landratsamt Aschaffenburg. \n \nTeilen macht Freu(n)deteilen Pocket teilen 
URL:https://www.lebenshilfe-aschaffenburg.de/termine/selbsthilfetage-2025/
LOCATION:City Galerie Aschaffenburg
ATTACH;FMTTYPE=image/jpeg:https://www.lebenshilfe-aschaffenburg.de/wp-content/uploads/2025/03/sht25_titel.jpg
END:VEVENT
END:VCALENDAR