BEGIN:VCALENDAR
VERSION:2.0
PRODID:-//Lebenshilfe Aschaffenburg e.V. - ECPv6.15.20//NONSGML v1.0//EN
CALSCALE:GREGORIAN
METHOD:PUBLISH
X-ORIGINAL-URL:https://www.lebenshilfe-aschaffenburg.de
X-WR-CALDESC:Veranstaltungen für Lebenshilfe Aschaffenburg e.V.
REFRESH-INTERVAL;VALUE=DURATION:PT1H
X-Robots-Tag:noindex
X-PUBLISHED-TTL:PT1H
BEGIN:VTIMEZONE
TZID:Europe/Berlin
BEGIN:DAYLIGHT
TZOFFSETFROM:+0100
TZOFFSETTO:+0200
TZNAME:CEST
DTSTART:20230326T010000
END:DAYLIGHT
BEGIN:STANDARD
TZOFFSETFROM:+0200
TZOFFSETTO:+0100
TZNAME:CET
DTSTART:20231029T010000
END:STANDARD
BEGIN:DAYLIGHT
TZOFFSETFROM:+0100
TZOFFSETTO:+0200
TZNAME:CEST
DTSTART:20240331T010000
END:DAYLIGHT
BEGIN:STANDARD
TZOFFSETFROM:+0200
TZOFFSETTO:+0100
TZNAME:CET
DTSTART:20241027T010000
END:STANDARD
BEGIN:DAYLIGHT
TZOFFSETFROM:+0100
TZOFFSETTO:+0200
TZNAME:CEST
DTSTART:20250330T010000
END:DAYLIGHT
BEGIN:STANDARD
TZOFFSETFROM:+0200
TZOFFSETTO:+0100
TZNAME:CET
DTSTART:20251026T010000
END:STANDARD
END:VTIMEZONE
BEGIN:VEVENT
DTSTART;TZID=Europe/Berlin:20241201T120000
DTEND;TZID=Europe/Berlin:20241201T170000
DTSTAMP:20260420T084557
CREATED:20240703T073151Z
LAST-MODIFIED:20250731T061629Z
UID:10000216-1733054400-1733072400@www.lebenshilfe-aschaffenburg.de
SUMMARY:Sozialer Weihnachtsmarkt Aschaffenburg
DESCRIPTION:Ein Weihnachtsmarkt der besonderen Art in stimmungsvoller Atmosphäre – das ist der Soziale Weihnachtsmarkt im Kapuzinerkloster in Aschaffenburg!\n\nDie Lebenshilfe Aschaffenburg ist dieses Jahr schon zum dritten Mal mit dabei. An unserem Stand finden Sie Schönes\, Nachhaltiges\, Handgemachtes aus Stoff\, Holz und Papier sowie verschiedene Leckereien zum Verschenken. Der Erlös unseres Standes kommt zu 100% der Lebenshilfe Aschaffenburg zugute.\n\nAuch für das leibliche Wohl ist bestens gesorgt\, z. B. mit feinem Glühwein und leckerer Pizza aus dem wunderschönen Pizzasteinofen vor Ort.\n\n\nErste Einblicke finden Sie schon jetzt auf Instagram: https://www.instagram.com/sozialerweihnachtsmarkt2024/\n\n\n\n\n\n\n\n\n\nTeilen macht Freu(n)deteilen Pocket teilen 
URL:https://www.lebenshilfe-aschaffenburg.de/termine/sozialer-weihnachtsmarkt-aschaffenburg-2-2/
LOCATION:Kapuzinerkloster Aschaffenburg\, Kapuzinerplatz 8\, Aschaffenburg\, 63739
ATTACH;FMTTYPE=image/jpeg:https://www.lebenshilfe-aschaffenburg.de/wp-content/uploads/2024/07/sozweihnachtsmarkt24klein.jpg
END:VEVENT
END:VCALENDAR