BEGIN:VCALENDAR
VERSION:2.0
PRODID:-//Lebenshilfe Aschaffenburg e.V. - ECPv6.15.20//NONSGML v1.0//EN
CALSCALE:GREGORIAN
METHOD:PUBLISH
X-WR-CALNAME:Lebenshilfe Aschaffenburg e.V.
X-ORIGINAL-URL:https://www.lebenshilfe-aschaffenburg.de
X-WR-CALDESC:Veranstaltungen für Lebenshilfe Aschaffenburg e.V.
REFRESH-INTERVAL;VALUE=DURATION:PT1H
X-Robots-Tag:noindex
X-PUBLISHED-TTL:PT1H
BEGIN:VTIMEZONE
TZID:Europe/Berlin
BEGIN:DAYLIGHT
TZOFFSETFROM:+0100
TZOFFSETTO:+0200
TZNAME:CEST
DTSTART:20230326T010000
END:DAYLIGHT
BEGIN:STANDARD
TZOFFSETFROM:+0200
TZOFFSETTO:+0100
TZNAME:CET
DTSTART:20231029T010000
END:STANDARD
BEGIN:DAYLIGHT
TZOFFSETFROM:+0100
TZOFFSETTO:+0200
TZNAME:CEST
DTSTART:20240331T010000
END:DAYLIGHT
BEGIN:STANDARD
TZOFFSETFROM:+0200
TZOFFSETTO:+0100
TZNAME:CET
DTSTART:20241027T010000
END:STANDARD
BEGIN:DAYLIGHT
TZOFFSETFROM:+0100
TZOFFSETTO:+0200
TZNAME:CEST
DTSTART:20250330T010000
END:DAYLIGHT
BEGIN:STANDARD
TZOFFSETFROM:+0200
TZOFFSETTO:+0100
TZNAME:CET
DTSTART:20251026T010000
END:STANDARD
END:VTIMEZONE
BEGIN:VEVENT
DTSTART;TZID=Europe/Berlin:20241020T110000
DTEND;TZID=Europe/Berlin:20241020T170000
DTSTAMP:20260420T121338
CREATED:20240312T081235Z
LAST-MODIFIED:20241016T132553Z
UID:10000214-1729422000-1729443600@www.lebenshilfe-aschaffenburg.de
SUMMARY:25 Jahre Integrative Kindertagesstätte Kunterbunt
DESCRIPTION:Unsere Integrative Kindertagesstätte Kunterbunt hat Geburtstag! \nDie Kindertagesstätte in Alzenau wird 25 – und das wird gefeiert! \nAm 20. Oktober 2024 findet von 11 bis 17 Uhr ein großes Geburtstagsfest statt. \nAlle weiteren Infos gibt es auf dem Plakat: \n \nTeilen macht Freu(n)deteilen Pocket teilen 
URL:https://www.lebenshilfe-aschaffenburg.de/termine/25-jahre-integrative-kindertagesstaette-kunterbunt/
LOCATION:Integrative Kindertagesstätte Kunterbunt\, Schlehenweg 9\, Alzenau\, 63755
CATEGORIES:Integrative Kindertagesstätte Kunterbunt
ATTACH;FMTTYPE=image/jpeg:https://www.lebenshilfe-aschaffenburg.de/wp-content/uploads/2024/09/2024-09-11-25-jahre-ikt-alz.jpg
ORGANIZER;CN="Integrative Kindertagesst%C3%A4tte Kunterbunt":MAILTO:ikt-kunterbunt@lebenshilfe-aschaffenburg.de
END:VEVENT
END:VCALENDAR