BEGIN:VCALENDAR
VERSION:2.0
PRODID:-//Lebenshilfe Aschaffenburg e.V. - ECPv6.15.20//NONSGML v1.0//EN
CALSCALE:GREGORIAN
METHOD:PUBLISH
X-WR-CALNAME:Lebenshilfe Aschaffenburg e.V.
X-ORIGINAL-URL:https://www.lebenshilfe-aschaffenburg.de
X-WR-CALDESC:Veranstaltungen für Lebenshilfe Aschaffenburg e.V.
REFRESH-INTERVAL;VALUE=DURATION:PT1H
X-Robots-Tag:noindex
X-PUBLISHED-TTL:PT1H
BEGIN:VTIMEZONE
TZID:Europe/Berlin
BEGIN:DAYLIGHT
TZOFFSETFROM:+0100
TZOFFSETTO:+0200
TZNAME:CEST
DTSTART:20230326T010000
END:DAYLIGHT
BEGIN:STANDARD
TZOFFSETFROM:+0200
TZOFFSETTO:+0100
TZNAME:CET
DTSTART:20231029T010000
END:STANDARD
BEGIN:DAYLIGHT
TZOFFSETFROM:+0100
TZOFFSETTO:+0200
TZNAME:CEST
DTSTART:20240331T010000
END:DAYLIGHT
BEGIN:STANDARD
TZOFFSETFROM:+0200
TZOFFSETTO:+0100
TZNAME:CET
DTSTART:20241027T010000
END:STANDARD
BEGIN:DAYLIGHT
TZOFFSETFROM:+0100
TZOFFSETTO:+0200
TZNAME:CEST
DTSTART:20250330T010000
END:DAYLIGHT
BEGIN:STANDARD
TZOFFSETFROM:+0200
TZOFFSETTO:+0100
TZNAME:CET
DTSTART:20251026T010000
END:STANDARD
END:VTIMEZONE
BEGIN:VEVENT
DTSTART;TZID=Europe/Berlin:20240923T193000
DTEND;TZID=Europe/Berlin:20240923T220000
DTSTAMP:20260420T133013
CREATED:20240904T070318Z
LAST-MODIFIED:20240904T070318Z
UID:10000218-1727119800-1727128800@www.lebenshilfe-aschaffenburg.de
SUMMARY:Infoabend "Fairer Handel im Kindergarten?"
DESCRIPTION:Im Rahmen der Fairen Woche lädt unsere Integrative Kindertagesstätte Kunterbunt in Alzenau in Kooperation mit dem Weltladen Alzenau zu einem Infoabend ein. \nThema des Infoabends ist: “Fairer Handel im Kindergarten?” \nDer Infoabend findet am 23. September um 19.30 Uhr in den Räumen der Integrativen Kindertagesstätte Kunterbunt statt. \nDie Faire Woche 2024 findet vom 13. bis 27. September zum Thema “Klimagerechtigkeit” unter dem Motto “Fair! Und kein Grad mehr.” statt. Als Fairtrade-Stadt bietet Alzenau in diesen Wochen viele “Fair”-Anstaltungen mit unterschiedlichen Schwerpunkten. Eine Übersicht finden Sie hier. \n \nTeilen macht Freu(n)deteilen Pocket teilen 
URL:https://www.lebenshilfe-aschaffenburg.de/termine/infoabend-fairer-handel-im-kindergarten/
LOCATION:Integrative Kindertagesstätte Kunterbunt\, Schlehenweg 9\, Alzenau\, 63755
CATEGORIES:Integrative Kindertagesstätte Kunterbunt
ATTACH;FMTTYPE=image/jpeg:https://www.lebenshilfe-aschaffenburg.de/wp-content/uploads/2024/09/2024-09elternabendtitel.jpg
ORGANIZER;CN="Integrative Kindertagesst%C3%A4tte Kunterbunt":MAILTO:ikt-kunterbunt@lebenshilfe-aschaffenburg.de
END:VEVENT
END:VCALENDAR