BEGIN:VCALENDAR
VERSION:2.0
PRODID:-//Lebenshilfe Aschaffenburg e.V. - ECPv6.15.20//NONSGML v1.0//EN
CALSCALE:GREGORIAN
METHOD:PUBLISH
X-WR-CALNAME:Lebenshilfe Aschaffenburg e.V.
X-ORIGINAL-URL:https://www.lebenshilfe-aschaffenburg.de
X-WR-CALDESC:Veranstaltungen für Lebenshilfe Aschaffenburg e.V.
REFRESH-INTERVAL;VALUE=DURATION:PT1H
X-Robots-Tag:noindex
X-PUBLISHED-TTL:PT1H
BEGIN:VTIMEZONE
TZID:Europe/Berlin
BEGIN:DAYLIGHT
TZOFFSETFROM:+0100
TZOFFSETTO:+0200
TZNAME:CEST
DTSTART:20230326T010000
END:DAYLIGHT
BEGIN:STANDARD
TZOFFSETFROM:+0200
TZOFFSETTO:+0100
TZNAME:CET
DTSTART:20231029T010000
END:STANDARD
BEGIN:DAYLIGHT
TZOFFSETFROM:+0100
TZOFFSETTO:+0200
TZNAME:CEST
DTSTART:20240331T010000
END:DAYLIGHT
BEGIN:STANDARD
TZOFFSETFROM:+0200
TZOFFSETTO:+0100
TZNAME:CET
DTSTART:20241027T010000
END:STANDARD
BEGIN:DAYLIGHT
TZOFFSETFROM:+0100
TZOFFSETTO:+0200
TZNAME:CEST
DTSTART:20250330T010000
END:DAYLIGHT
BEGIN:STANDARD
TZOFFSETFROM:+0200
TZOFFSETTO:+0100
TZNAME:CET
DTSTART:20251026T010000
END:STANDARD
END:VTIMEZONE
BEGIN:VEVENT
DTSTART;TZID=Europe/Berlin:20240922T110000
DTEND;TZID=Europe/Berlin:20240922T170000
DTSTAMP:20260420T133044
CREATED:20240312T080607Z
LAST-MODIFIED:20240916T075627Z
UID:10000213-1727002800-1727024400@www.lebenshilfe-aschaffenburg.de
SUMMARY:Oktoberfest in der Integrativen Kindertagesstätte Hundertmorgenwald
DESCRIPTION:Am Sonntag\, den 22. September 2024\, findet das Oktoberfest in unserer Integrativen Kindertagesstätte Hundertmorgenwald in Mömbris statt. \nWir geben Einblicke in unsere pädagogische Arbeit\, bieten viele Spiel- und Bastelangebote für alle Kinder und natürlich eine große Hüpfburg! \nUnser Elternbeirat sorgt für das leibliche Wohl mit allerlei bayerischen Schmankerln und für gute Stimmung sorgen der Musikverein Harmonie Strötzbach und die “Z’samm gewürfelte Kinzigtaler”. \nWir freuen uns auf Ihren Besuch! \n  \nTeilen macht Freu(n)deteilen Pocket teilen 
URL:https://www.lebenshilfe-aschaffenburg.de/termine/oktoberfest-in-der-integrativen-kindertagesstaette-hundertmorgenwald-2/
LOCATION:Integrative Kindertagesstätte Hundertmorgenwald\, Zur Heiligenwiese 2\, Mömbris\, 63776
CATEGORIES:Integrative Kindertagesstätte in Mömbris
ATTACH;FMTTYPE=image/jpeg:https://www.lebenshilfe-aschaffenburg.de/wp-content/uploads/2023/08/2023-09-24-oktoberfest-2.jpg
ORGANIZER;CN="Integrative Kindertagesst%C3%A4tte Hundertmorgenwald":MAILTO:ikt-hundertmorgenwald@lebenshilfe-aschaffenburg.de
END:VEVENT
END:VCALENDAR