BEGIN:VCALENDAR
VERSION:2.0
PRODID:-//Lebenshilfe Aschaffenburg e.V. - ECPv6.15.20//NONSGML v1.0//EN
CALSCALE:GREGORIAN
METHOD:PUBLISH
X-ORIGINAL-URL:https://www.lebenshilfe-aschaffenburg.de
X-WR-CALDESC:Veranstaltungen für Lebenshilfe Aschaffenburg e.V.
REFRESH-INTERVAL;VALUE=DURATION:PT1H
X-Robots-Tag:noindex
X-PUBLISHED-TTL:PT1H
BEGIN:VTIMEZONE
TZID:Europe/Berlin
BEGIN:DAYLIGHT
TZOFFSETFROM:+0100
TZOFFSETTO:+0200
TZNAME:CEST
DTSTART:20220327T010000
END:DAYLIGHT
BEGIN:STANDARD
TZOFFSETFROM:+0200
TZOFFSETTO:+0100
TZNAME:CET
DTSTART:20221030T010000
END:STANDARD
BEGIN:DAYLIGHT
TZOFFSETFROM:+0100
TZOFFSETTO:+0200
TZNAME:CEST
DTSTART:20230326T010000
END:DAYLIGHT
BEGIN:STANDARD
TZOFFSETFROM:+0200
TZOFFSETTO:+0100
TZNAME:CET
DTSTART:20231029T010000
END:STANDARD
BEGIN:DAYLIGHT
TZOFFSETFROM:+0100
TZOFFSETTO:+0200
TZNAME:CEST
DTSTART:20240331T010000
END:DAYLIGHT
BEGIN:STANDARD
TZOFFSETFROM:+0200
TZOFFSETTO:+0100
TZNAME:CET
DTSTART:20241027T010000
END:STANDARD
END:VTIMEZONE
BEGIN:VEVENT
DTSTART;TZID=Europe/Berlin:20231203T114500
DTEND;TZID=Europe/Berlin:20231203T173000
DTSTAMP:20260423T131541
CREATED:20231107T083012Z
LAST-MODIFIED:20231107T083012Z
UID:10000205-1701603900-1701624600@www.lebenshilfe-aschaffenburg.de
SUMMARY:Sozialer Weihnachtsmarkt Aschaffenburg
DESCRIPTION:Ein Weihnachtsmarkt der besonderen Art in stimmungsvoller Atmosphäre – das ist der Soziale Weihnachtsmarkt im Kapuzinerkloster in Aschaffenburg! \nDie Lebenshilfe Aschaffenburg ist dieses Jahr zum zweiten Mal mit dabei. An unserem Stand finden Sie Schönes\, Nachhaltiges\, Handgemachtes aus Stoff\, Holz und Papier sowie verschiedene Leckereien zum Verschenken. Der Erlös unseres Standes kommt zu 100% der Lebenshilfe Aschaffenburg zugute. \nAuch für das leibliche Wohl ist bestens gesorgt\, z. B. mit feinem Glühwein und leckerer Pizza aus dem wunderschönen Pizzasteinofen vor Ort. \nWenn Sie dem Sozialen Weihnachtsmarkt auf Instagram folgen\, können Sie schon jetzt einen kleinen Eindruck von dem bekommen\, was Sie alles an den verschiedenen Ständen erwartet: instagram.com/sozialerweihnachtsmarkt2023 \n\nTeilen macht Freu(n)deteilen Pocket teilen 
URL:https://www.lebenshilfe-aschaffenburg.de/termine/sozialer-weihnachtsmarkt-aschaffenburg-2/
LOCATION:Kapuzinerkloster Aschaffenburg\, Kapuzinerplatz 8\, Aschaffenburg\, 63739
ATTACH;FMTTYPE=image/png:https://www.lebenshilfe-aschaffenburg.de/wp-content/uploads/2023/11/sozweihnachtsmarkt23kl.png
END:VEVENT
END:VCALENDAR