BEGIN:VCALENDAR
VERSION:2.0
PRODID:-//Lebenshilfe Aschaffenburg e.V. - ECPv6.15.20//NONSGML v1.0//EN
CALSCALE:GREGORIAN
METHOD:PUBLISH
X-WR-CALNAME:Lebenshilfe Aschaffenburg e.V.
X-ORIGINAL-URL:https://www.lebenshilfe-aschaffenburg.de
X-WR-CALDESC:Veranstaltungen für Lebenshilfe Aschaffenburg e.V.
REFRESH-INTERVAL;VALUE=DURATION:PT1H
X-Robots-Tag:noindex
X-PUBLISHED-TTL:PT1H
BEGIN:VTIMEZONE
TZID:Europe/Berlin
BEGIN:DAYLIGHT
TZOFFSETFROM:+0100
TZOFFSETTO:+0200
TZNAME:CEST
DTSTART:20210328T010000
END:DAYLIGHT
BEGIN:STANDARD
TZOFFSETFROM:+0200
TZOFFSETTO:+0100
TZNAME:CET
DTSTART:20211031T010000
END:STANDARD
BEGIN:DAYLIGHT
TZOFFSETFROM:+0100
TZOFFSETTO:+0200
TZNAME:CEST
DTSTART:20220327T010000
END:DAYLIGHT
BEGIN:STANDARD
TZOFFSETFROM:+0200
TZOFFSETTO:+0100
TZNAME:CET
DTSTART:20221030T010000
END:STANDARD
BEGIN:DAYLIGHT
TZOFFSETFROM:+0100
TZOFFSETTO:+0200
TZNAME:CEST
DTSTART:20230326T010000
END:DAYLIGHT
BEGIN:STANDARD
TZOFFSETFROM:+0200
TZOFFSETTO:+0100
TZNAME:CET
DTSTART:20231029T010000
END:STANDARD
END:VTIMEZONE
BEGIN:VEVENT
DTSTART;TZID=Europe/Berlin:20221111T170000
DTEND;TZID=Europe/Berlin:20221111T170000
DTSTAMP:20260424T072745
CREATED:20221020T083753Z
LAST-MODIFIED:20221107T114640Z
UID:10000192-1668186000-1668186000@www.lebenshilfe-aschaffenburg.de
SUMMARY:Martinsumzug in der Integrativen Kindertagesstätte Hundertmorgenwald
DESCRIPTION:Am Martinstag (Freitag\, den 11.11.2022) findet ab 17 Uhr in der Integrativen Kindertagesstätte Hundertmorgenwald in Mömbris-Strötzbach ein Martinsumzug statt. \nFür das leibliche Wohl sorgt der Elternbeirat mit Flammkuchen\, Bratwürsten und einigem mehr. \nTeilen macht Freu(n)deteilen Pocket teilen 
URL:https://www.lebenshilfe-aschaffenburg.de/termine/matrinsumzug-in-der-integrativen-kindertagesstaette-hundertmorgenwald/
LOCATION:Integrative Kindertagesstätte Hundertmorgenwald\, Zur Heiligenwiese 2\, Mömbris\, 63776
CATEGORIES:Integrative Kindertagesstätte in Mömbris
ATTACH;FMTTYPE=image/jpeg:https://www.lebenshilfe-aschaffenburg.de/wp-content/uploads/2022/10/martinszugmoembris.jpg
ORGANIZER;CN="Integrative Kindertagesst%C3%A4tte Hundertmorgenwald":MAILTO:ikt-hundertmorgenwald@lebenshilfe-aschaffenburg.de
END:VEVENT
END:VCALENDAR